BEGIN:VCALENDAR
VERSION:2.0
PRODID:-//bonasoft.pl//NONSGML Niebiescy od ekranów – w trosce o przyszłość naszych uczniów//EN
CALSCALE:GREGORIAN
METHOD:PUBLISH
BEGIN:VEVENT
UID:20260424T182828-1996340761uid
DISTAMP:20260424T182828
DTSTART:20240207T090000Z
DTEND:20240207T110000Z
LOCATION:Zespół Placówek Oświatowych w Policznie. Biblioteka szkolna
SUMMARY:Niebiescy od ekranów – w trosce o przyszłość naszych uczniów
DESCRIPTION:Spotkanie Sieci Współpracy i Samokształcenia Nauczycieli Bibliotekarzy
END:VEVENT
END:VCALENDAR
