BEGIN:VCALENDAR
VERSION:2.0
PRODID:-//bonasoft.pl//NONSGML Zawodowy zawrót głowy – biblioteka pedagogiczna wsparciem dla pedagogów, psychologów i logopedów//EN
CALSCALE:GREGORIAN
METHOD:PUBLISH
BEGIN:VEVENT
UID:20260424T202447-441562470uid
DISTAMP:20260424T202447
DTSTART:20250204T100000Z
DTEND:20250204T113000Z
LOCATION:Biblioteka Pedagogiczna w Radomiu Filia w Zwoleniu
SUMMARY:Zawodowy zawrót głowy – biblioteka pedagogiczna wsparciem dla pedagogów, psychologów i logopedów
DESCRIPTION:
END:VEVENT
END:VCALENDAR
