BEGIN:VCALENDAR
VERSION:2.0
PRODID:-//bonasoft.pl//NONSGML Ferie z kodowaniem na dywanie – kreatywnie i aktywnie!//EN
CALSCALE:GREGORIAN
METHOD:PUBLISH
BEGIN:VEVENT
UID:20260424T223321-2107124287uid
DISTAMP:20260424T223321
DTSTART:20250213T100000Z
DTEND:20250213T113000Z
LOCATION:Miejsko-Gminna Biblioteka Publiczna im. Jana Kochanowskiego w Zwoleniu Filia w Sycynie
SUMMARY:Ferie z kodowaniem na dywanie – kreatywnie i aktywnie!
DESCRIPTION:Kodowanie na dywanie - kreatywnie i aktywnie!, to wartościowe zajęcia, które rozwijają wiele umiejętności u dzieci i przygotowują je do rozwijania logicznego myślenie oraz kreatywności. To również świetna zabawa, która pozwala dzieciom aktywnie i kreatywnie spędzić czas podczas ferii szkolnych.



END:VEVENT
END:VCALENDAR
