BEGIN:VCALENDAR
VERSION:2.0
PRODID:-//bonasoft.pl//NONSGML „CZYTAĆ NIE CZYTAĆ. OTO JEST PYTANIE!”//EN
CALSCALE:GREGORIAN
METHOD:PUBLISH
BEGIN:VEVENT
UID:20260424T223616-390057135uid
DISTAMP:20260424T223616
DTSTART:20250227T100000Z
DTEND:20250227T123000Z
LOCATION:Muzeum Regionalne w Zwoleniu, ul. Kard. Wyszyńskiego 30
SUMMARY:„CZYTAĆ NIE CZYTAĆ. OTO JEST PYTANIE!”
DESCRIPTION:Mazowieckie Samorządowe Centrum Doskonalenia Nauczycieli Wydział w Radomiu, Biblioteka Pedagogiczna w Radomiu, Biblioteka Pedagogiczna w Radomiu Filia w Zwoleniu
zapraszają Nauczycieli, Rodziców i Uczniów ze szkół realizujących projekt „Promujemy czytanie w epoce cyfrowej” na konferencję pt. „CZYTAĆ NIE CZYTAĆ. OTO JEST PYTANIE!”, która odbędzie się 27 lutego 2025 roku (czwartek) w godzinach 11.00 – 13.30 w Muzeum Regionalnym w Zwoleniu. ul. Kard. Wyszyńskiego 30.

Program konferencji dostępny na stronie internetowej MSCDN Wydział w Radomiu w zakładce KALENDARZ WYDARZEŃ
https://system.mscdn.pl/zewnetrzne/terminarz2/w/Radom

Szkoły uczestniczące w projekcie:
Publiczna Szkoła Podstawowa im. Heleny Długoszewskiej w Babinie
Publiczna Szkoła Podstawowa im. kpt. pil Tadeusza Sędzielowskiego w Baryczy
Publiczna Szkoła Podstawowa im. Jana Kochanowskiego w Czarnolesie
Publiczna Szkoła Podstawowa im. Stefana Żeromskiego w Janowie
Publiczna Szkoła Podstawowa im. płk. Jana T. Sońty „Ośki” w Kowalkowie
END:VEVENT
END:VCALENDAR
