BEGIN:VCALENDAR
VERSION:2.0
PRODID:-//bonasoft.pl//NONSGML Dzień Języka Ojczystego//EN
CALSCALE:GREGORIAN
METHOD:PUBLISH
BEGIN:VEVENT
UID:20260424T222349-1138088470uid
DISTAMP:20260424T222349
DTSTART:20250226T093000Z
DTEND:20250226T110000Z
LOCATION:Dom Kultury w Zwoleniu, Al. Jana Pała II 6 sala widowiskowa i Galeria Fotografii i Plastyki
SUMMARY:Dzień Języka Ojczystego
DESCRIPTION:Biblioteka Pedagogiczna w Radomiu Filia w Zwoleniu oraz Dom Kultury zapraszają Uczniów klasy 8C Publicznej Szkoły Podstawowej im. Władysława Jagiełły w Zwoleniu na spotkanie z okazji Międzynarodowego Dnia Języka Ojczystego pt. „Zwoleń na ustach świata. Z Janem Kochanowskim dbamy o mowę ojczystą.”
END:VEVENT
END:VCALENDAR
