BEGIN:VCALENDAR
VERSION:2.0
PRODID:-//bonasoft.pl//NONSGML Otwórzmy książkę, otwórzmy się na siebie. Święto Kobiet i Mężczyzn w bibliotece//EN
CALSCALE:GREGORIAN
METHOD:PUBLISH
BEGIN:VEVENT
UID:20260424T202953-729014775uid
DISTAMP:20260424T202953
DTSTART:20250310T100000Z
DTEND:20250310T113000Z
LOCATION:Czytelnia 
SUMMARY:Otwórzmy książkę, otwórzmy się na siebie. Święto Kobiet i Mężczyzn w bibliotece
DESCRIPTION:
END:VEVENT
END:VCALENDAR
