BEGIN:VCALENDAR
VERSION:2.0
PRODID:-//bonasoft.pl//NONSGML Poezja – moja miłość. Spotkanie autorskie z Panią Ireną Błażewską//EN
CALSCALE:GREGORIAN
METHOD:PUBLISH
BEGIN:VEVENT
UID:20260424T223946-619424644uid
DISTAMP:20260424T223946
DTSTART:20250314T093000Z
DTEND:20250314T110000Z
LOCATION:Publiczna Szkoła Podstawowa im. Władysława Jagiełły w Zwoleniu, ul. Kościelna 7
SUMMARY:Poezja – moja miłość. Spotkanie autorskie z Panią Ireną Błażewską
DESCRIPTION:Serdecznie zapraszamy na spotkanie autorskie z Panią Ireną Błażewską -  cenioną poetką i regionalistką.

END:VEVENT
END:VCALENDAR
