BEGIN:VCALENDAR
VERSION:2.0
PRODID:-//bonasoft.pl//NONSGML „Młodzi detektywi w poszukiwaniu pióra Jana Kochanowskiego” – GRA TERENOWA//EN
CALSCALE:GREGORIAN
METHOD:PUBLISH
BEGIN:VEVENT
UID:20260424T202524-2026934523uid
DISTAMP:20260424T202524
DTSTART:20250414T073000Z
DTEND:20250414T083000Z
LOCATION:Park Miejski w Zwoleniu
SUMMARY:„Młodzi detektywi w poszukiwaniu pióra Jana Kochanowskiego” – GRA TERENOWA
DESCRIPTION:Zapraszamy młodych detektywów w wieku 10-15 lat do udziału w fascynującej grze terenowej "Młodzi detektywi w poszukiwaniu pióra Jana Kochanowskiego". 

Data: 14 kwietnia 2025 roku 

Godzina: 9.30 

Miejsce startu: Park Miejski w Zwoleniu
END:VEVENT
END:VCALENDAR
