BEGIN:VCALENDAR
VERSION:2.0
PRODID:-//bonasoft.pl//NONSGML Otwarcie wystawy prac plastycznych pt. „”Od renesansu do współczesności – Jan Kochanowski i 600 lat Zwolenia”//EN
CALSCALE:GREGORIAN
METHOD:PUBLISH
BEGIN:VEVENT
UID:20260424T223111-975549412uid
DISTAMP:20260424T223111
DTSTART:20250411T080000Z
DTEND:20250411T090000Z
LOCATION:Biblioteka Pedagogiczna w Radomiu Filia w Zwoleniu - Czytelnia
SUMMARY:Otwarcie wystawy prac plastycznych pt. „”Od renesansu do współczesności – Jan Kochanowski i 600 lat Zwolenia”
DESCRIPTION:Zapraszamy na wystawę prac plastycznych uczniów z Publicznej Szkoły Podstawowej im. Władysława Jagiełły w Zwoleniu
END:VEVENT
END:VCALENDAR
