BEGIN:VCALENDAR
VERSION:2.0
PRODID:-//bonasoft.pl//NONSGML „Bibliotekarzu – mości panujący Królu Książek!”//EN
CALSCALE:GREGORIAN
METHOD:PUBLISH
BEGIN:VEVENT
UID:20260424T202443-2111044583uid
DISTAMP:20260424T202443
DTSTART:20250508T070000Z
DTEND:20250508T150000Z
LOCATION:Biblioteki z powiatu zwoleńskiego
SUMMARY:„Bibliotekarzu – mości panujący Królu Książek!”
DESCRIPTION:Wydarzenie z okazji TYGODNIA BIBLIOTEK 2025 
END:VEVENT
END:VCALENDAR
