BEGIN:VCALENDAR
VERSION:2.0
PRODID:-//bonasoft.pl//NONSGML Retro-Biblioteka, w której nawet czytamy ze ściany. Bajki z rzutnika//EN
CALSCALE:GREGORIAN
METHOD:PUBLISH
BEGIN:VEVENT
UID:20260424T224203-587197796uid
DISTAMP:20260424T224203
DTSTART:20250508T105000Z
DTEND:20250508T113500Z
LOCATION:Biblioteka Pedagogiczna w Radomiu Filia w Zwoleniu - Czytelnia
SUMMARY:Retro-Biblioteka, w której nawet czytamy ze ściany. Bajki z rzutnika
DESCRIPTION:Wydarzenie z okazji TYGODNIA BIBLIOTEK 2025 - „Biblioteka. Lubię tu być!”
END:VEVENT
END:VCALENDAR
