BEGIN:VCALENDAR
VERSION:2.0
PRODID:-//bonasoft.pl//NONSGML Retro-Biblioteka, w której nawet czytamy ze ściany. Bajki z rzutnika//EN
CALSCALE:GREGORIAN
METHOD:PUBLISH
BEGIN:VEVENT
UID:20260424T202657-1965989707uid
DISTAMP:20260424T202657
DTSTART:20250509T083000Z
DTEND:20250509T092000Z
LOCATION:Biblioteka Pedagogiczna w Radomiu Filia w Zwoleniu - Czytelnia
SUMMARY:Retro-Biblioteka, w której nawet czytamy ze ściany. Bajki z rzutnika
DESCRIPTION:Wydarzenie z okazji TYGODNIA BIBLIOTEK 2025 - „Biblioteka. Lubię tu być!”
END:VEVENT
END:VCALENDAR
