BEGIN:VCALENDAR
VERSION:2.0
PRODID:-//bonasoft.pl//NONSGML „Zakręceni na rowery” – spotkanie z Arkadiuszem Figurą//EN
CALSCALE:GREGORIAN
METHOD:PUBLISH
BEGIN:VEVENT
UID:20260424T182834-139012619uid
DISTAMP:20260424T182834
DTSTART:20250512T080000Z
DTEND:20250512T100000Z
LOCATION:Biblioteka Pedagogiczna w Radomiu Filia w Zwoleniu, ul. Kościuszki 39 Zwoleń 26-700
SUMMARY:„Zakręceni na rowery” – spotkanie z Arkadiuszem Figurą
DESCRIPTION:Wydarzenie z okazji TYGODNIA BIBLIOTEK 2025 - „Biblioteka. Lubię tu być!”
END:VEVENT
END:VCALENDAR
