BEGIN:VCALENDAR
VERSION:2.0
PRODID:-//bonasoft.pl//NONSGML „Od papirusu do okładki: Tworzymy własną historię książki”//EN
CALSCALE:GREGORIAN
METHOD:PUBLISH
BEGIN:VEVENT
UID:20260424T202617-1367394917uid
DISTAMP:20260424T202617
DTSTART:20250507T083000Z
DTEND:20250507T093000Z
LOCATION:Biblioteka Pedagogiczna w Radomiu Filia w Zwoleniu - Czytelnia
SUMMARY:„Od papirusu do okładki: Tworzymy własną historię książki”
DESCRIPTION:Wydarzenie z okazji TYGODNIA BIBLIOTEK 2025 - „Biblioteka. Lubię tu być!”
END:VEVENT
END:VCALENDAR
