BEGIN:VCALENDAR
VERSION:2.0
PRODID:-//bonasoft.pl//NONSGML „Przedszkolak wie, jak w bibliotece czas dobrze spędza się!”//EN
CALSCALE:GREGORIAN
METHOD:PUBLISH
BEGIN:VEVENT
UID:20260424T201800-1998250529uid
DISTAMP:20260424T201800
DTSTART:20250515T090000Z
DTEND:20250515T095000Z
LOCATION:Biblioteka Pedagogiczna w Radomiu Filia w Zwoleniu - Czytelnia
SUMMARY:„Przedszkolak wie, jak w bibliotece czas dobrze spędza się!”
DESCRIPTION:Wydarzenie z okazji TYGODNIA BIBLIOTEK 2025 - „Biblioteka. Lubię tu być!”
END:VEVENT
END:VCALENDAR
