BEGIN:VCALENDAR
VERSION:2.0
PRODID:-//bonasoft.pl//NONSGML Konferencja „Codzienność wartości.  Wartość codzienności  w kulturze, sztuce i literaturze”//EN
CALSCALE:GREGORIAN
METHOD:PUBLISH
BEGIN:VEVENT
UID:20260424T203022-486815870uid
DISTAMP:20260424T203022
DTSTART:20250625T074500Z
DTEND:20250625T123000Z
LOCATION:Muzeum Regionalne w Zwoleniu, ul. Kard. Wyszyńskiego 30
SUMMARY:Konferencja „Codzienność wartości.  Wartość codzienności  w kulturze, sztuce i literaturze”
DESCRIPTION:Zapraszamy na konferencję pt."Codzienność wartości. Wartość codzienności w kulturze, sztuce i literaturze".
END:VEVENT
END:VCALENDAR
