BEGIN:VCALENDAR
VERSION:2.0
PRODID:-//bonasoft.pl//NONSGML NARODOWE CZYTANIE 2025 – poezje Jana Kochanowskiego//EN
CALSCALE:GREGORIAN
METHOD:PUBLISH
BEGIN:VEVENT
UID:20260424T201800-1656353508uid
DISTAMP:20260424T201800
DTSTART:20250909T070000Z
DTEND:20250909T100000Z
LOCATION:Park Miejski w Zwoleniu - przy pomniku Jana Kochanowskiego (Plac Jana Kochanowskiego 1)
SUMMARY:NARODOWE CZYTANIE 2025 – poezje Jana Kochanowskiego
DESCRIPTION:Narodowe Czytanie to coroczna akcja wspólnego czytania pod patronatem Prezydenta RP. Podczas 14. edycji Narodowego Czytania odbędzie się wspólne czytanie poezji Jana Kochanowskiego (1530-1584). Mistrz z Czarnolasu uważany za jednego z najwybitniejszych twórców renesansu w Europie i poetę, który najbardziej przyczynił się do rozwoju polskiego języka literackiego.

Przyjdź i poczuj magię słowa – zabierz rodzinę, znajomych i wspólnie świętujmy literaturę!
END:VEVENT
END:VCALENDAR
