BEGIN:VCALENDAR
VERSION:2.0
PRODID:-//bonasoft.pl//NONSGML Otwarcie wystawy „JAN KOCHANOWSKI W OCZACH MISTRZÓW. Renesans sztucznej wyobraźni”//EN
CALSCALE:GREGORIAN
METHOD:PUBLISH
BEGIN:VEVENT
UID:20260424T182943-1092777091uid
DISTAMP:20260424T182943
DTSTART:20250908T220900Z
DTEND:20250909T100000Z
LOCATION:Park Miejski w Zwoleniu - przy pomniku Jana Kochanowskiego (Plac Jana Kochanowskiego 1)
SUMMARY:Otwarcie wystawy „JAN KOCHANOWSKI W OCZACH MISTRZÓW. Renesans sztucznej wyobraźni”
DESCRIPTION:Mamy zaszczyt serdecznie zaprosić na wernisaż wyjątkowej wystawy „Jan Kochanowski w oczach mistrzów. Renesans sztucznej wyobraźni”, która odbędzie się w ramach tegorocznej, XIV edycji akcji „Narodowe Czytanie”, poświęconej twórczości Mistrza z Czarnolasu.

Od 10 września 2025 r. wystawa będzie dostępna dla wszystkich chętnych w godzinach pracy Biblioteki Pedagogicznej w Radomiu Filia w Zwoleniu, ul. Kościuszki 39, Zwoleń 26-700. Zapraszamy.
END:VEVENT
END:VCALENDAR
