BEGIN:VCALENDAR
VERSION:2.0
PRODID:-//bonasoft.pl//NONSGML KONFERENCJA „Promujemy czytanie w epoce cyfrowej”//EN
CALSCALE:GREGORIAN
METHOD:PUBLISH
BEGIN:VEVENT
UID:20260424T182650-832218500uid
DISTAMP:20260424T182650
DTSTART:20250923T143000Z
DTEND:20250923T163000Z
LOCATION:MSCDN Wydział w Radomiu
SUMMARY:KONFERENCJA „Promujemy czytanie w epoce cyfrowej”
DESCRIPTION:Zaproszenie na konferencję inaugurującą projekt "Promujemy czytanie w epoce cyfrowej", który realizowany jest w szkołach:
1. Publiczna Szkoła Podstawowa im. Jana Kochanowskiego w Sycynie
2. Publiczna Szkoła Podstawowa im.  Królowej św. Jadwigi w Rawicy
3. Publiczna Szkoła Podstawowa w Zakrzówku
4. Publiczna Szkoła Podstawowa im. Jana Kochanowskiego w Policznie
5. Publiczna Szkoła Podstawowa im. ppłk AK Józefa Pawlaka „Brzozy” w Łaguszowie
6. Zespół Szkolno-Przedszkolny w Jedlni
7. Publiczna Szkoła Podstawowa im. Tadeusza Kościuszki w Suskowoli
8. Publiczna szkoła Podstawowa im. Armii Krajowej w Suchej

END:VEVENT
END:VCALENDAR
