BEGIN:VCALENDAR
VERSION:2.0
PRODID:-//bonasoft.pl//NONSGML ZAPROSZENIE na spotkanie Sieci Współpracy i Samokształcenia//EN
CALSCALE:GREGORIAN
METHOD:PUBLISH
BEGIN:VEVENT
UID:20260424T202923-1951616287uid
DISTAMP:20260424T202923
DTSTART:20251022T070000Z
DTEND:20251022T093000Z
LOCATION:Biblioteka Pedagogiczna w Radomiu Filia w Zwoleniu - Czytelnia
SUMMARY:ZAPROSZENIE na spotkanie Sieci Współpracy i Samokształcenia
DESCRIPTION:Biblioteka Pedagogiczna w Radomiu, Filia w Zwoleniu serdecznie zaprasza nauczycieli bibliotekarzy na kolejne spotkanie Sieci Współpracy i Samokształcenia, które odbędzie się 22 października 2025 r. (środa) o godz. 9.00 w siedzibie Biblioteki, ul. Kościuszki 39, Zwoleń.

END:VEVENT
END:VCALENDAR
