BEGIN:VCALENDAR
VERSION:2.0
PRODID:-//bonasoft.pl//NONSGML Do dzieła! Noc Bibliotek 2025//EN
CALSCALE:GREGORIAN
METHOD:PUBLISH
BEGIN:VEVENT
UID:20260424T182828-1051433250uid
DISTAMP:20260424T182828
DTSTART:20251021T080000Z
DTEND:20251023T130000Z
LOCATION:Biblioteka Pedagogiczna w Radomiu Filia w Zwoleniu - Czytelnia
SUMMARY:Do dzieła! Noc Bibliotek 2025
DESCRIPTION:22 października 2025 roku nasza biblioteka po raz kolejny włączy się w ogólnopolską akcję Noc Bibliotek – wyjątkowe wydarzenie promujące czytanie, kulturę i biblioteki jako miejsca otwarte dla wszystkich.
END:VEVENT
END:VCALENDAR
