BEGIN:VCALENDAR
VERSION:2.0
PRODID:-//bonasoft.pl//NONSGML KREATYWNE WARSZTATY: Drugie życie książki – stwórz świąteczną choinkę!//EN
CALSCALE:GREGORIAN
METHOD:PUBLISH
BEGIN:VEVENT
UID:20260424T163508-793903498uid
DISTAMP:20260424T163508
DTSTART:20251215T090000Z
DTEND:20251215T103000Z
LOCATION:Biblioteka Pedagogiczna w Radomiu Filia w Zwoleniu - Czytelnia
SUMMARY:KREATYWNE WARSZTATY: Drugie życie książki – stwórz świąteczną choinkę!
DESCRIPTION:Zapraszamy na kreatywne warsztaty, podczas których pokażemy, jak zrobić choinkę ze starej książki.

Poniedziałek, 15 grudnia 2025 r.
Godzina 10:00 - 11.30
Czytelnia biblioteki

Liczba miejsc ograniczona.
END:VEVENT
END:VCALENDAR
