BEGIN:VCALENDAR
VERSION:2.0
PRODID:-//bonasoft.pl//NONSGML Zaproszenie na Sieć Współpracy i Samokształcenia Nauczycieli Bibliotekarzy//EN
CALSCALE:GREGORIAN
METHOD:PUBLISH
BEGIN:VEVENT
UID:20260424T163554-1114137285uid
DISTAMP:20260424T163554
DTSTART:20260225T080000Z
DTEND:20260225T093000Z
LOCATION:Publiczna szkoła Podstawowa im. Władysława Jagiełły w Zwoleniu, ul. Ludowa 35  - Biblioteka szkolna 
SUMMARY:Zaproszenie na Sieć Współpracy i Samokształcenia Nauczycieli Bibliotekarzy
DESCRIPTION:Szanowni Nauczyciele Bibliotekarze,
zapraszamy na spotkanie Sieci Współpracy i Samokształcenia Nauczycieli Bibliotekarzy Szkół Powiatu Zwoleńskiego, które odbędzie się 25 lutego 2026 roku (środa) o godz. 9.00 w bibliotece Publicznej Szkoły Podstawowej im. Władysława Jagiełły w Zwoleniu, ul. Ludowa 35.

END:VEVENT
END:VCALENDAR
